BEGIN:VCALENDAR
VERSION:2.0
PRODID:-//ChamberMaster//Event Calendar 2.0//EN
METHOD:PUBLISH
X-PUBLISHED-TTL:P1H
REFRESH-INTERVAL:P1H
CALSCALE:GREGORIAN
BEGIN:VTIMEZONE
TZID:America/New_York
BEGIN:DAYLIGHT
RRULE:FREQ=YEARLY;BYMONTH=3;BYDAY=2SU
DTSTART:20070101T000000
TZOFFSETFROM:-0500
TZOFFSETTO:-0400
TZNAME:Eastern Daylight Time
END:DAYLIGHT
BEGIN:STANDARD
RRULE:FREQ=YEARLY;BYMONTH=11;BYDAY=1SU
DTSTART:20070101T000000
TZOFFSETFROM:-0400
TZOFFSETTO:-0500
TZNAME:Eastern Standard Time
END:STANDARD
END:VTIMEZONE
BEGIN:VEVENT
DTSTART;TZID=America/New_York:20270413T084500
DTEND;TZID=America/New_York:20270413T094500
X-MICROSOFT-CDO-ALLDAYEVENT:FALSE
SUMMARY:Wake up your network! Coffee and Connections
DESCRIPTION:Looking to grow your business without the pressure of a formal presentation? Join us for our next Coffee and Connections! It's simple: Great coffee\, light breakfast\, and even better conversations. Whether you're a long-time member or just curious about what the Chamber can do for you\, this is the perfect low-stakes environment to make meaningful local connections before your workday even starts. What to expect: ✅ Come-and-go networking (no strict agenda) ✅ Connect with other local business owners ✅ Fresh coffee and local treats ✅ A chance to meet our Board and Ambassadors
X-ALT-DESC;FMTTYPE=text/html:<!DOCTYPE html><html><head><title></title></head><body aria-disabled="false"><p>Looking to grow your business without the pressure of a formal presentation? Join us for our next Coffee and Connections! It&rsquo\;s simple: Great coffee\, light breakfast\, and even better conversations. Whether you&rsquo\;re a long-time member or just curious about what the Chamber can do for you\, this is the perfect low-stakes environment to make meaningful local connections before your workday even starts. What to expect:&nbsp\;</p><p>✅ Come-and-go networking (no strict agenda)&nbsp\;</p><p>✅ Connect with other local business owners&nbsp\;</p><p>✅ Fresh coffee and local treats&nbsp\;</p><p>✅ A chance to meet our Board and Ambassadors</p></body></html>
LOCATION:87 E US Hwy 22 And 3\, Maineville 45039
UID:e.2758.1394669
SEQUENCE:3
DTSTAMP:20260421T094537Z
URL:https://swcchamber.growthzoneapp.com/eventcalendar/Details/wake-up-your-network-coffee-and-connections-1647914?sourceTypeId=Hub
END:VEVENT
END:VCALENDAR
