BEGIN:VCALENDAR
VERSION:2.0
PRODID:-//ChamberMaster//Event Calendar 2.0//EN
METHOD:PUBLISH
X-PUBLISHED-TTL:P1H
REFRESH-INTERVAL:P1H
CALSCALE:GREGORIAN
BEGIN:VTIMEZONE
TZID:America/New_York
BEGIN:DAYLIGHT
RRULE:FREQ=YEARLY;BYMONTH=3;BYDAY=2SU
DTSTART:20070101T000000
TZOFFSETFROM:-0500
TZOFFSETTO:-0400
TZNAME:Eastern Daylight Time
END:DAYLIGHT
BEGIN:STANDARD
RRULE:FREQ=YEARLY;BYMONTH=11;BYDAY=1SU
DTSTART:20070101T000000
TZOFFSETFROM:-0400
TZOFFSETTO:-0500
TZNAME:Eastern Standard Time
END:STANDARD
END:VTIMEZONE
BEGIN:VEVENT
DTSTART;TZID=America/New_York:20260409T120000
DTEND;TZID=America/New_York:20260409T140000
X-MICROSOFT-CDO-ALLDAYEVENT:FALSE
SUMMARY:Ribbon Cutting - Club Pilates Maineville
DESCRIPTION:Join us for the Grand Opening and Ribbon Cutting for Club Pilates! \n✨Reformer-based Pilates Classes + Community\n✨Low Impact\, Full Body workouts for everybody\n✨Expertly trained instructors\n🔥 Book a Free Pilates Intro Class with us! 🔥\nhttps://www.clubpilates.com/maineville
X-ALT-DESC;FMTTYPE=text/html:Join us for the Grand Opening and Ribbon Cutting for Club Pilates! \n✨Reformer-based Pilates Classes + Community\n✨Low Impact\, Full Body workouts for everybody\n✨Expertly trained instructors\n🔥 Book a Free Pilates Intro Class with us! 🔥\nhttps://www.clubpilates.com/maineville
LOCATION:- 6400 SR 48 Suite L Maineville 45039
UID:e.2758.1438153
SEQUENCE:3
DTSTAMP:20260421T094537Z
URL:https://swcchamber.growthzoneapp.com/eventcalendar/Details/ribbon-cutting-club-pilates-maineville-1702164?sourceTypeId=Hub
END:VEVENT
END:VCALENDAR
