BEGIN:VCALENDAR
VERSION:2.0
PRODID:-//ChamberMaster//Event Calendar 2.0//EN
METHOD:PUBLISH
X-PUBLISHED-TTL:P1H
REFRESH-INTERVAL:P1H
CALSCALE:GREGORIAN
BEGIN:VTIMEZONE
TZID:America/New_York
BEGIN:DAYLIGHT
RRULE:FREQ=YEARLY;BYMONTH=3;BYDAY=2SU
DTSTART:20070101T000000
TZOFFSETFROM:-0500
TZOFFSETTO:-0400
TZNAME:Eastern Daylight Time
END:DAYLIGHT
BEGIN:STANDARD
RRULE:FREQ=YEARLY;BYMONTH=11;BYDAY=1SU
DTSTART:20070101T000000
TZOFFSETFROM:-0400
TZOFFSETTO:-0500
TZNAME:Eastern Standard Time
END:STANDARD
END:VTIMEZONE
BEGIN:VEVENT
DTSTART;TZID=America/New_York:20260729T163000
DTEND;TZID=America/New_York:20260729T180000
X-MICROSOFT-CDO-ALLDAYEVENT:FALSE
SUMMARY:Chamber After Hours - Work Hard\, Network Easy!
DESCRIPTION:The workday is done—now it’s time to connect! Join us for this month’s Chamber Happy Hour\, hosted by the amazing SWC Board members!\nWhether you’re looking to meet potential new clients or just want to catch up with fellow business owners in a relaxed setting\, this is the place to be. No agendas\, no speeches—just great company\, and local connections.\nWhat’s in for you?\n✨ Relaxed Networking: Build relationships without the "suit and tie" vibe.\n📍 Discover Local: Check out details below for the local location and see what makes them a community favorites\nJanuary 28 - Mainetowne - 8143 OH-48\, Maineville\, OH 45039\nMarch 25 - Cartridge Brewery - 1411 Grandin Rd\, Maineville\, OH 45039\nMay 27 - The Monkey Bar - 7837 Old 3C Hwy\, Maineville\, OH 45039\nJune 23 - Mainetowne - 8143 OH-48\, Maineville\, OH 45039\nJuly 29 - Depot Brewery - 240 Main St\, Morrow\, OH 45152\nSeptember 23 - Victory Pints - 48 W Foster-Maineville Rd\, Maineville\, OH 45039\nNovember 20 - Cartridge Brewery - 1411 Grandin Rd\, Maineville\, OH 45039\nDecember 2 - Mainetowne - 8143 OH-48\, Maineville\, OH 45039 See less
X-ALT-DESC;FMTTYPE=text/html:The workday is done—now it’s time to connect! Join us for this month’s Chamber Happy Hour\, hosted by the amazing SWC Board members!\nWhether you’re looking to meet potential new clients or just want to catch up with fellow business owners in a relaxed setting\, this is the place to be. No agendas\, no speeches—just great company\, and local connections.\nWhat’s in for you?\n✨ Relaxed Networking: Build relationships without the "suit and tie" vibe.\n📍 Discover Local: Check out details below for the local location and see what makes them a community favorites\nJanuary 28 - Mainetowne - 8143 OH-48\, Maineville\, OH 45039\nMarch 25 - Cartridge Brewery - 1411 Grandin Rd\, Maineville\, OH 45039\nMay 27 - The Monkey Bar - 7837 Old 3C Hwy\, Maineville\, OH 45039\nJune 23 - Mainetowne - 8143 OH-48\, Maineville\, OH 45039\nJuly 29 - Depot Brewery - 240 Main St\, Morrow\, OH 45152\nSeptember 23 - Victory Pints - 48 W Foster-Maineville Rd\, Maineville\, OH 45039\nNovember 20 - Cartridge Brewery - 1411 Grandin Rd\, Maineville\, OH 45039\nDecember 2 - Mainetowne - 8143 OH-48\, Maineville\, OH 45039 See less
LOCATION:240 Main St Morrow 45152
UID:e.2758.1427597
SEQUENCE:3
DTSTAMP:20260421T093959Z
URL:https://swcchamber.growthzoneapp.com/eventcalendar/Details/chamber-after-hours-work-hard-network-easy-1688342?sourceTypeId=Hub
END:VEVENT
END:VCALENDAR
