BEGIN:VCALENDAR
VERSION:2.0
PRODID:-//ChamberMaster//Event Calendar 2.0//EN
METHOD:PUBLISH
X-PUBLISHED-TTL:P1H
REFRESH-INTERVAL:P1H
CALSCALE:GREGORIAN
BEGIN:VTIMEZONE
TZID:America/New_York
BEGIN:DAYLIGHT
RRULE:FREQ=YEARLY;BYMONTH=3;BYDAY=2SU
DTSTART:20070101T000000
TZOFFSETFROM:-0500
TZOFFSETTO:-0400
TZNAME:Eastern Daylight Time
END:DAYLIGHT
BEGIN:STANDARD
RRULE:FREQ=YEARLY;BYMONTH=11;BYDAY=1SU
DTSTART:20070101T000000
TZOFFSETFROM:-0400
TZOFFSETTO:-0500
TZNAME:Eastern Standard Time
END:STANDARD
END:VTIMEZONE
BEGIN:VEVENT
DTSTART;TZID=America/New_York:20260416T114500
DTEND;TZID=America/New_York:20260416T130000
X-MICROSOFT-CDO-ALLDAYEVENT:FALSE
SUMMARY:Chamber Luncheon
DESCRIPTION:** Canceled ** The Southern Warren County Chamber will host 12 lunches in 2026 and will need speakers to present topics helpful to our local small businesses. If you are interested in becoming a speaker\, please fill out this form. Signing up does not guarantee placement on the calendar. Members are given first priority. Lunch meetings are 11:45am-1pm\; the speaker has 10-20 minutes to present. Technology is available.
X-ALT-DESC;FMTTYPE=text/html:<!DOCTYPE html><html><head><title></title></head><body aria-disabled="false"><p>** Canceled ** The Southern Warren County Chamber will host 12 lunches in 2026 and will need speakers to present topics helpful to our local small businesses. If you are interested in becoming a speaker\, please fill out this form. Signing up does not guarantee placement on the calendar. Members are given first priority. Lunch meetings are 11:45am-1pm\; the speaker has 10-20 minutes to present. Technology is available.</p></body></html>
LOCATION:7780 South State Route 48 Maineville 45039
UID:e.2758.1444218
SEQUENCE:3
DTSTAMP:20260421T094446Z
URL:https://swcchamber.growthzoneapp.com/eventcalendar/Details/chamber-luncheon-1612340?sourceTypeId=Hub
END:VEVENT
END:VCALENDAR
